BEGIN:VCALENDAR
VERSION:2.0
PRODID:-//VOA Upstate NY - ECPv6.15.20//NONSGML v1.0//EN
CALSCALE:GREGORIAN
METHOD:PUBLISH
X-WR-CALNAME:VOA Upstate NY
X-ORIGINAL-URL:https://www.voaupny.org
X-WR-CALDESC:Events for VOA Upstate NY
REFRESH-INTERVAL;VALUE=DURATION:PT1H
X-Robots-Tag:noindex
X-PUBLISHED-TTL:PT1H
BEGIN:VTIMEZONE
TZID:UTC
BEGIN:STANDARD
TZOFFSETFROM:+0000
TZOFFSETTO:+0000
TZNAME:UTC
DTSTART:20250101T000000
END:STANDARD
END:VTIMEZONE
BEGIN:VEVENT
DTSTART;TZID=UTC:20260913T100000
DTEND;TZID=UTC:20260913T120000
DTSTAMP:20260421T093107
CREATED:20260209T173541Z
LAST-MODIFIED:20260226T164548Z
UID:10000012-1789293600-1789300800@www.voaupny.org
SUMMARY:Hike to End Homelessness
DESCRIPTION:Registration and more information coming soon. \nJoin us for a family-friendly community walk to raise awareness and support for affordable housing.\nDate and location subject to change. \n 
URL:https://www.voaupny.org/event/walk/
LOCATION:Monroe Community College\, 1000 E Henrietta Rd\, Rochester\, NY\, 14623\, United States
ATTACH;FMTTYPE=image/png:https://www.voaupny.org/wp-content/uploads/sites/7/2026/02/hike-graphic.png
END:VEVENT
END:VCALENDAR